0.125
0.000
-0.000
-0.125
443500.0625
216999.9375
